BEGIN:VCALENDAR
VERSION:2.0
PRODID:-//MadisonChristians.com - ECPv6.15.20//NONSGML v1.0//EN
CALSCALE:GREGORIAN
METHOD:PUBLISH
X-ORIGINAL-URL:https://madisonchristians.com
X-WR-CALDESC:Events for MadisonChristians.com
REFRESH-INTERVAL;VALUE=DURATION:PT1H
X-Robots-Tag:noindex
X-PUBLISHED-TTL:PT1H
BEGIN:VTIMEZONE
TZID:America/Chicago
BEGIN:DAYLIGHT
TZOFFSETFROM:-0600
TZOFFSETTO:-0500
TZNAME:CDT
DTSTART:20230312T080000
END:DAYLIGHT
BEGIN:STANDARD
TZOFFSETFROM:-0500
TZOFFSETTO:-0600
TZNAME:CST
DTSTART:20231105T070000
END:STANDARD
BEGIN:DAYLIGHT
TZOFFSETFROM:-0600
TZOFFSETTO:-0500
TZNAME:CDT
DTSTART:20240310T080000
END:DAYLIGHT
BEGIN:STANDARD
TZOFFSETFROM:-0500
TZOFFSETTO:-0600
TZNAME:CST
DTSTART:20241103T070000
END:STANDARD
BEGIN:DAYLIGHT
TZOFFSETFROM:-0600
TZOFFSETTO:-0500
TZNAME:CDT
DTSTART:20250309T080000
END:DAYLIGHT
BEGIN:STANDARD
TZOFFSETFROM:-0500
TZOFFSETTO:-0600
TZNAME:CST
DTSTART:20251102T070000
END:STANDARD
END:VTIMEZONE
BEGIN:VEVENT
DTSTART;TZID=America/Chicago:20241102T180000
DTEND;TZID=America/Chicago:20241102T200000
DTSTAMP:20260425T115450
CREATED:20240920T211135Z
LAST-MODIFIED:20240920T212931Z
UID:9995-1730570400-1730577600@madisonchristians.com
SUMMARY:Stonecroft Couples Dinner: "Operating in the Combat Zone"
DESCRIPTION:Speaker: Doctor David Goodspeed\,  \nRetired U.S. Army Colonel\, UW orthopedic surgeon\, and former University of Wisconsin wrestler \nDr. Goodspeed will share how his faith was strengthened during three tours of active duty in the war zones of Iraq and Afghanistan. \n  \nAlso: Kyle Kriegl\, Executive Director of the Southwest Wisconsin Chapter of the American Red Cross\, will share how the Red Cross serves our nation in times of need. \n  \nIn recognition of Veteran’s Day\, special music will be provided by Tom Wulff. \n  \nThe dinner event will be held at Dahmen’s at Hawks Landing\, 88 Hawks Landing Circle\, Verona\, Wisconsin\, beginning at 6:00 PM.  The cost for the dinner and program is $30 per person. \n  \nPrepaid reservations are appreciated by Monday\, October 28th. For more information\, see flier. \n  \nStonecroft Ministries – 11-02-2024 – PDF Flier \n 
URL:https://madisonchristians.com/event/stonecroft-couples-dinner-operating-in-the-combat-zone/
LOCATION:Dahmen’s at Hawk’s Landing\, 88 Hawks Landing Circle\, Verona\, Wisconsin\, 88 Hawks Landing Circle\, Verona\, WI\, 53593\, United States
CATEGORIES:Community event
END:VEVENT
END:VCALENDAR