BEGIN:VCALENDAR
VERSION:2.0
PRODID:-//MadisonChristians.com - ECPv6.15.20//NONSGML v1.0//EN
CALSCALE:GREGORIAN
METHOD:PUBLISH
X-WR-CALNAME:MadisonChristians.com
X-ORIGINAL-URL:https://madisonchristians.com
X-WR-CALDESC:Events for MadisonChristians.com
REFRESH-INTERVAL;VALUE=DURATION:PT1H
X-Robots-Tag:noindex
X-PUBLISHED-TTL:PT1H
BEGIN:VTIMEZONE
TZID:America/Chicago
BEGIN:DAYLIGHT
TZOFFSETFROM:-0600
TZOFFSETTO:-0500
TZNAME:CDT
DTSTART:20240310T080000
END:DAYLIGHT
BEGIN:STANDARD
TZOFFSETFROM:-0500
TZOFFSETTO:-0600
TZNAME:CST
DTSTART:20241103T070000
END:STANDARD
BEGIN:DAYLIGHT
TZOFFSETFROM:-0600
TZOFFSETTO:-0500
TZNAME:CDT
DTSTART:20250309T080000
END:DAYLIGHT
BEGIN:STANDARD
TZOFFSETFROM:-0500
TZOFFSETTO:-0600
TZNAME:CST
DTSTART:20251102T070000
END:STANDARD
BEGIN:DAYLIGHT
TZOFFSETFROM:-0600
TZOFFSETTO:-0500
TZNAME:CDT
DTSTART:20260308T080000
END:DAYLIGHT
BEGIN:STANDARD
TZOFFSETFROM:-0500
TZOFFSETTO:-0600
TZNAME:CST
DTSTART:20261101T070000
END:STANDARD
END:VTIMEZONE
BEGIN:VEVENT
DTSTART;TZID=America/Chicago:20250927T110000
DTEND;TZID=America/Chicago:20250927T170000
DTSTAMP:20260421T083207
CREATED:20250923T234903Z
LAST-MODIFIED:20250923T234903Z
UID:10428-1758970800-1758992400@madisonchristians.com
SUMMARY:Christian HipHop Harvest Season Fest at Olin Park
DESCRIPTION:Clear Hits Radio is bringing national Christian artists Steve Malcolm and George.Rose\, plus local artists\, to Madison’s Olin Park on Saturday\, September 27. Six hours of music\, energy\, community\, and God’s goodness\, making Olin Park Madison’s loudest and most joyful place all afternoon. \nBring a chair\, bring a blanket\, bring a friend. \nChildren’s tent – bring the whole family. Local vendors. \nFlyer\n 
URL:https://madisonchristians.com/event/christian-hiphop-harvest-season-fest-at-olin-park/
LOCATION:Olin Park\, 202 East Lakeside Street\, Madison\, WI\, 53715\, United States
CATEGORIES:Community event
END:VEVENT
END:VCALENDAR