BEGIN:VCALENDAR
VERSION:2.0
PRODID:-//MadisonChristians.com - ECPv6.15.20//NONSGML v1.0//EN
CALSCALE:GREGORIAN
METHOD:PUBLISH
X-WR-CALNAME:MadisonChristians.com
X-ORIGINAL-URL:https://madisonchristians.com
X-WR-CALDESC:Events for MadisonChristians.com
REFRESH-INTERVAL;VALUE=DURATION:PT1H
X-Robots-Tag:noindex
X-PUBLISHED-TTL:PT1H
BEGIN:VTIMEZONE
TZID:America/Chicago
BEGIN:DAYLIGHT
TZOFFSETFROM:-0600
TZOFFSETTO:-0500
TZNAME:CDT
DTSTART:20220313T080000
END:DAYLIGHT
BEGIN:STANDARD
TZOFFSETFROM:-0500
TZOFFSETTO:-0600
TZNAME:CST
DTSTART:20221106T070000
END:STANDARD
BEGIN:DAYLIGHT
TZOFFSETFROM:-0600
TZOFFSETTO:-0500
TZNAME:CDT
DTSTART:20230312T080000
END:DAYLIGHT
BEGIN:STANDARD
TZOFFSETFROM:-0500
TZOFFSETTO:-0600
TZNAME:CST
DTSTART:20231105T070000
END:STANDARD
BEGIN:DAYLIGHT
TZOFFSETFROM:-0600
TZOFFSETTO:-0500
TZNAME:CDT
DTSTART:20240310T080000
END:DAYLIGHT
BEGIN:STANDARD
TZOFFSETFROM:-0500
TZOFFSETTO:-0600
TZNAME:CST
DTSTART:20241103T070000
END:STANDARD
END:VTIMEZONE
BEGIN:VEVENT
DTSTART;TZID=America/Chicago:20230614T170000
DTEND;TZID=America/Chicago:20230614T183000
DTSTAMP:20260423T170331
CREATED:20230607T232947Z
LAST-MODIFIED:20230607T232947Z
UID:9359-1686762000-1686767400@madisonchristians.com
SUMMARY:Pressing Issues for the Global Church
DESCRIPTION:The Christian church is a multinational\, multicultural\, multilingual body that spans every society on the globe. In the twenty-first century\, the vast majority of Christians live in the “Global South”—Asia\, Africa\, and Latin America. Yet in many conversations about “the Church\,” Americans tend to focus on themselves. \nIn this summer series of conversations Upper House will host five talks to explore some of the dominant social issues in the global church—issues that affect all Christians\, albeit in different ways depending on location. We’ll seek to learn from people in our community who have experience and expertise in other parts of the world\, hopefully challenging and enriching our understanding of the church here in Madison\, too. \nThere will be six sessions in all\, meeting every other Wednesday evening.
URL:https://madisonchristians.com/event/pressing-issues-for-the-global-church/
LOCATION:Upper|House\, 365 East Campus Mall\, Suite 200\, Madison\, 53715\, United States
CATEGORIES:Community event
END:VEVENT
END:VCALENDAR