BEGIN:VCALENDAR
VERSION:2.0
PRODID:-//MadisonChristians.com - ECPv6.15.20//NONSGML v1.0//EN
CALSCALE:GREGORIAN
METHOD:PUBLISH
X-WR-CALNAME:MadisonChristians.com
X-ORIGINAL-URL:https://madisonchristians.com
X-WR-CALDESC:Events for MadisonChristians.com
REFRESH-INTERVAL;VALUE=DURATION:PT1H
X-Robots-Tag:noindex
X-PUBLISHED-TTL:PT1H
BEGIN:VTIMEZONE
TZID:America/Chicago
BEGIN:DAYLIGHT
TZOFFSETFROM:-0600
TZOFFSETTO:-0500
TZNAME:CDT
DTSTART:20210314T080000
END:DAYLIGHT
BEGIN:STANDARD
TZOFFSETFROM:-0500
TZOFFSETTO:-0600
TZNAME:CST
DTSTART:20211107T070000
END:STANDARD
BEGIN:DAYLIGHT
TZOFFSETFROM:-0600
TZOFFSETTO:-0500
TZNAME:CDT
DTSTART:20220313T080000
END:DAYLIGHT
BEGIN:STANDARD
TZOFFSETFROM:-0500
TZOFFSETTO:-0600
TZNAME:CST
DTSTART:20221106T070000
END:STANDARD
BEGIN:DAYLIGHT
TZOFFSETFROM:-0600
TZOFFSETTO:-0500
TZNAME:CDT
DTSTART:20230312T080000
END:DAYLIGHT
BEGIN:STANDARD
TZOFFSETFROM:-0500
TZOFFSETTO:-0600
TZNAME:CST
DTSTART:20231105T070000
END:STANDARD
END:VTIMEZONE
BEGIN:VEVENT
DTSTART;TZID=America/Chicago:20220922T180000
DTEND;TZID=America/Chicago:20220922T210000
DTSTAMP:20260420T030601
CREATED:20220609T131803Z
LAST-MODIFIED:20220609T131803Z
UID:4693-1663869600-1663880400@madisonchristians.com
SUMMARY:Wisconsin Inmate Education Association Gala
DESCRIPTION:Sharon Lynne Wilson Center for the Arts
URL:https://madisonchristians.com/event/wisconsin-inmate-education-association-gala/
LOCATION:3270 Mitchell Park Dr\, Brookfield\, WI
END:VEVENT
BEGIN:VEVENT
DTSTART;TZID=America/Chicago:20220721T160000
DTEND;TZID=America/Chicago:20220721T173000
DTSTAMP:20260420T030601
CREATED:20220609T132041Z
LAST-MODIFIED:20220609T132041Z
UID:4696-1658419200-1658424600@madisonchristians.com
SUMMARY:Read Wisconsin: A Sand County Almanac by Aldo Leopold
DESCRIPTION:Upper House
URL:https://madisonchristians.com/event/read-wisconsin-a-sand-county-almanac-by-aldo-leopold/
LOCATION:365 E Campus Mall\, Unit 200\, Madison
END:VEVENT
BEGIN:VEVENT
DTSTART;VALUE=DATE:20220719
DTEND;VALUE=DATE:20220721
DTSTAMP:20260420T030601
CREATED:20220609T115419Z
LAST-MODIFIED:20220609T115602Z
UID:4648-1658188800-1658361599@madisonchristians.com
SUMMARY:The International Conference on Agape Love and Forgiveness
DESCRIPTION:The conference will be in English with simultaneous interpretations in Arabic\, Hebrew\, and Mandarin
URL:https://madisonchristians.com/event/the-international-conference-on-agape-love-and-forgiveness/
LOCATION:Fluno Center\, 601 University Ave\, Madison\, WI\, United States
END:VEVENT
END:VCALENDAR