BEGIN:VCALENDAR
VERSION:2.0
PRODID:-//MadisonChristians.com - ECPv6.15.20//NONSGML v1.0//EN
CALSCALE:GREGORIAN
METHOD:PUBLISH
X-WR-CALNAME:MadisonChristians.com
X-ORIGINAL-URL:https://madisonchristians.com
X-WR-CALDESC:Events for MadisonChristians.com
REFRESH-INTERVAL;VALUE=DURATION:PT1H
X-Robots-Tag:noindex
X-PUBLISHED-TTL:PT1H
BEGIN:VTIMEZONE
TZID:America/Chicago
BEGIN:DAYLIGHT
TZOFFSETFROM:-0600
TZOFFSETTO:-0500
TZNAME:CDT
DTSTART:20210314T080000
END:DAYLIGHT
BEGIN:STANDARD
TZOFFSETFROM:-0500
TZOFFSETTO:-0600
TZNAME:CST
DTSTART:20211107T070000
END:STANDARD
BEGIN:DAYLIGHT
TZOFFSETFROM:-0600
TZOFFSETTO:-0500
TZNAME:CDT
DTSTART:20220313T080000
END:DAYLIGHT
BEGIN:STANDARD
TZOFFSETFROM:-0500
TZOFFSETTO:-0600
TZNAME:CST
DTSTART:20221106T070000
END:STANDARD
BEGIN:DAYLIGHT
TZOFFSETFROM:-0600
TZOFFSETTO:-0500
TZNAME:CDT
DTSTART:20230312T080000
END:DAYLIGHT
BEGIN:STANDARD
TZOFFSETFROM:-0500
TZOFFSETTO:-0600
TZNAME:CST
DTSTART:20231105T070000
END:STANDARD
END:VTIMEZONE
BEGIN:VEVENT
DTSTART;TZID=America/Chicago:20221118T083000
DTEND;TZID=America/Chicago:20221118T100000
DTSTAMP:20260419T122107
CREATED:20221024T170307Z
LAST-MODIFIED:20221024T170307Z
UID:8990-1668760200-1668765600@madisonchristians.com
SUMMARY:Reorganized Religion: The Reshaping of the American Church and Why It Matters
DESCRIPTION:Join us at Upper House for a conversation with award-winning religion reporter Bob Smietana\, whose new book\, Reorganized Religion:The Reshaping of the American Church and Why It Matters (2022\, Worthy Publishing)\, captures the significant shifts that are taking place in the Christian community. Upper House’s director of university engagement\, Dr. Dan Hummel\, a historian of American religion\, will interview Smietana on the major findings of his book\, including why churches are changing and why so many are leaving. \nMore information at UpperHouse here.
URL:https://madisonchristians.com/event/reorganized-religion-the-reshaping-of-the-american-church-and-why-it-matters/
LOCATION:Upper|House\, 365 East Campus Mall\, Suite 200\, Madison\, 53715\, United States
END:VEVENT
BEGIN:VEVENT
DTSTART;TZID=America/Chicago:20221117T190000
DTEND;TZID=America/Chicago:20221117T203000
DTSTAMP:20260419T122107
CREATED:20221102T125413Z
LAST-MODIFIED:20221102T125413Z
UID:9009-1668711600-1668717000@madisonchristians.com
SUMMARY:Creation Care\, Climate Change\, and Healthy Discourse in Christian Communities
DESCRIPTION:A renowned scientist will bring research on the health effects of global environmental change. A theologian and leader of the Lausanne/World Evangelical Alliance Creation Care Network will bring biblical and international perspective. And an institutional leadership veteran and conflict resolution expert will bring strategic wisdom about ways to engage in challenging conversations. This unique event foregrounds science\, the church\, and caring communication\, courtesy of a Loka Initiative program to constructively support church leaders and their communities to engage in creation care and climate activities. \nYou might be either curious or passionate about creation care. You might be a leader or member of a church trying to have meaningful\, non-divisive conversations about climate change. The presentations and roundtable discussion at this event will approach the subject of creation care and climate change holistically\, as well as bring forward conflict resolution tools to help us have the types of constructive conversations we long to have in this divisive time. We hope you will join us as we focus on a topic that touches all of us—spiritually\, environmentally\, and communally. \nMore information at Upper|House
URL:https://madisonchristians.com/event/creation-care-climate-change-and-healthy-discourse-in-christian-communities/
LOCATION:Upper|House\, 365 East Campus Mall\, Suite 200\, Madison\, 53715\, United States
END:VEVENT
BEGIN:VEVENT
DTSTART;TZID=America/Chicago:20221112T190000
DTEND;TZID=America/Chicago:20221112T190000
DTSTAMP:20260419T122107
CREATED:20220620T062610Z
LAST-MODIFIED:20221102T125850Z
UID:5159-1668279600-1668279600@madisonchristians.com
SUMMARY:FALL GOSPEL FEST
DESCRIPTION:ARTICLE HERE \n  \nFor tickets and more information\, click here. \n 
URL:https://madisonchristians.com/event/fall-gospel-fest/
LOCATION:Capitol Theater\, 201 State Street\, Madison\, WI\, United States
END:VEVENT
BEGIN:VEVENT
DTSTART;TZID=America/Chicago:20221112T180000
DTEND;TZID=America/Chicago:20221112T200000
DTSTAMP:20260419T122107
CREATED:20221023T235434Z
LAST-MODIFIED:20221023T235534Z
UID:8981-1668276000-1668283200@madisonchristians.com
SUMMARY:Stonecroft Ministries Dinner & Dramatic Presentation: Corrie ten Boom
DESCRIPTION:Please join us for an evening with performing artist\, Gayle Haas\, as she portrays Corrie ten Boom\, a real-life Holocaust survivor who worked to provide refuge for Jews in Holland during World War II.  You may have read the book\, or seen the movie\, The Hiding Place\, which tells the triumphant true story of Corrie’s life.  Gayle will be the featured presenter at a Stonecroft Ministries Event being held on Saturday\, November 12\, 2022.  As a special bonus feature\, the Men of Blackhawk (a/k/a the MOB)\, men’s singing group will present a patriotic mini-concert in recognition of Veteran’s Day. \nThe Event will be held at Dahmen’s at Hawk’s Landing\, 88 Hawks Landing Circle\, Verona\, Wisconsin\, beginning at 6:00 PM.  The cost for dinner and program is $25 per person. Click here to register. \n 
URL:https://madisonchristians.com/event/stonecroft-ministries-dinner-dramatic-presentation/
LOCATION:Dahmen’s at Hawk’s Landing\, 88 Hawks Landing Circle\, Verona\, Wisconsin\, 88 Hawks Landing Circle\, Verona\, WI\, 53593\, United States
CATEGORIES:Community event
END:VEVENT
BEGIN:VEVENT
DTSTART;TZID=America/Chicago:20221102T190000
DTEND;TZID=America/Chicago:20221102T203000
DTSTAMP:20260419T122107
CREATED:20221101T132650Z
LAST-MODIFIED:20221101T132650Z
UID:9005-1667415600-1667421000@madisonchristians.com
SUMMARY:Religion in Modern China: Understanding Today’s Great Spiritual Revival
DESCRIPTION:Over the past generation\, the nation of China has experienced “one of the world’s great spiritual revivals\,” writes Pulitzer Prize-winning journalist Ian Johnson. China is filled with new temples\, churches\, and mosques—as well as cults\, sects\, and politicians trying to harness religion for their own ends. Headlines appear almost daily of religious tensions that take on outsized cultural and political significance. What are we to make of the growth of religion in China? How will this revival reshape one of the world’s growing superpowers?\nJoin us at Upper House to hear from Ian Johnson about the contemporary dynamics of religion in China. Drawing on decades of reporting\, Johnson is one of the world’s most acute observers of religion in East Asia. He has lived for extended periods with underground church members\, rural Daoists\, and Buddhist pilgrims. He has distilled these and many other experiences into a popular account\, The Souls of China: The Return of Religion after Mao (2017)\, and will offer us an even more up-to-date exploration of the Chinese religious scene. \nFor more information…
URL:https://madisonchristians.com/event/religion-in-modern-china-understanding-todays-great-spiritual-revival/
LOCATION:Upper|House\, 365 East Campus Mall\, Suite 200\, Madison\, 53715\, United States
END:VEVENT
BEGIN:VEVENT
DTSTART;TZID=America/Chicago:20221031T180000
DTEND;TZID=America/Chicago:20221031T200000
DTSTAMP:20260419T122107
CREATED:20221016T215128Z
LAST-MODIFIED:20221016T215128Z
UID:8972-1667239200-1667246400@madisonchristians.com
SUMMARY:Hallelujah Night Alternative Holiday Celebration
DESCRIPTION:You’re invited to join Lighthouse Church and School for Hallelujah Night— a Halloween alternative/worship service on Monday\, October 31\, 2022 from 6:00 – 8:00 PM. \nHallelujah Night is free\, open to the public\, and hosted alongside Mt. Zion Baptist Church\, St. Luke’s Lutheran Church\, and perhaps other churches. During the event\, we will distribute candy (full bars) and other snacks\, set up activities for children of all ages (e.g.\, indoor bouncy house\, slime stations\, craft table [“Fall in Love with Jesus\, He Never Leaves]\, face painting)\, and conduct corporate worship (featuring\, “The Pumpkin Gospel.”) \nWe invite you to worship with us\, and/or co-sponsor the event through the provision of candy\, crafting supplies\, or financial support for the bouncy house. Church/school/age –appropriate costumes are allowed\, so no zombies/witches/goblins\, ghosts or spirits: the only ghost ‘round here is the Holy Ghost; the only spirit we commune with is the Holy Spirit!
URL:https://madisonchristians.com/event/hallelujah-night-alternative-holiday-celebration/
LOCATION:Lighthouse Church and School\, 6402 Schroeder Road\, Madison\, 53711\, United States
ORGANIZER;CN="Lighthouse Church and School":MAILTO:info@lighthouseinmadison.org
END:VEVENT
BEGIN:VEVENT
DTSTART;TZID=America/Chicago:20221013T183000
DTEND;TZID=America/Chicago:20221013T200000
DTSTAMP:20260419T122107
CREATED:20221001T142033Z
LAST-MODIFIED:20221001T142033Z
UID:8947-1665685800-1665691200@madisonchristians.com
SUMMARY:Gospel Preaching Summit Public Service
DESCRIPTION:We are inviting members of area churches to attend the 6:30 PM service on Thursday\, Oct 13\, that features the Rev. Dr. Jerry M. Carter\, Jr. at Mt. Zion Baptist Church (2019 Fisher Street\, Madison). This service is part of the conference\, but also open to the public\, and we hope you invite members of your leadership teams and congregation to attend. I would love to see Mt. Zion filled with church members from throughout the community!
URL:https://madisonchristians.com/event/gospel-preaching-summit-public-service/
LOCATION:Mt. Zion Baptist Church\, 2019 Fisher Street\, Madison\, WI\, United States
END:VEVENT
BEGIN:VEVENT
DTSTART;TZID=America/Chicago:20220922T180000
DTEND;TZID=America/Chicago:20220922T210000
DTSTAMP:20260419T122107
CREATED:20220609T131803Z
LAST-MODIFIED:20220609T131803Z
UID:4693-1663869600-1663880400@madisonchristians.com
SUMMARY:Wisconsin Inmate Education Association Gala
DESCRIPTION:Sharon Lynne Wilson Center for the Arts
URL:https://madisonchristians.com/event/wisconsin-inmate-education-association-gala/
LOCATION:3270 Mitchell Park Dr\, Brookfield\, WI
END:VEVENT
BEGIN:VEVENT
DTSTART;TZID=America/Chicago:20220721T160000
DTEND;TZID=America/Chicago:20220721T173000
DTSTAMP:20260419T122107
CREATED:20220609T132041Z
LAST-MODIFIED:20220609T132041Z
UID:4696-1658419200-1658424600@madisonchristians.com
SUMMARY:Read Wisconsin: A Sand County Almanac by Aldo Leopold
DESCRIPTION:Upper House
URL:https://madisonchristians.com/event/read-wisconsin-a-sand-county-almanac-by-aldo-leopold/
LOCATION:365 E Campus Mall\, Unit 200\, Madison
END:VEVENT
BEGIN:VEVENT
DTSTART;VALUE=DATE:20220719
DTEND;VALUE=DATE:20220721
DTSTAMP:20260419T122107
CREATED:20220609T115419Z
LAST-MODIFIED:20220609T115602Z
UID:4648-1658188800-1658361599@madisonchristians.com
SUMMARY:The International Conference on Agape Love and Forgiveness
DESCRIPTION:The conference will be in English with simultaneous interpretations in Arabic\, Hebrew\, and Mandarin
URL:https://madisonchristians.com/event/the-international-conference-on-agape-love-and-forgiveness/
LOCATION:Fluno Center\, 601 University Ave\, Madison\, WI\, United States
END:VEVENT
END:VCALENDAR